BEGIN:VCALENDAR
VERSION:2.0
PRODID:-//eventon.com NONSGML v1.0//EN
CALSCALE:GREGORIAN
METHOD:PUBLISH
BEGIN:VEVENT
UID:69e7477d09b3e
DTSTAMP:20260421T094637Z
DTSTART:20230714T120000Z
DTEND:20230716T160000Z
LOCATION:Prerow 18375 Prerow
SUMMARY:Prerow
DESCRIPTION:\nhttps://freystatt.berlin/veranstaltungen_liste/prerow/
URL:https://freystatt.berlin/veranstaltungen_liste/prerow/
END:VEVENT
END:VCALENDAR